BEGIN:VCALENDAR
VERSION:2.0
PRODID:-//wp-events-plugin.com//7.2.3.1//EN
TZID:Europe/Berlin
X-WR-TIMEZONE:Europe/Berlin
BEGIN:VEVENT
UID:36@histap.de
DTSTART;TZID=Europe/Berlin:20240307T180000
DTEND;TZID=Europe/Berlin:20240321T210000
DTSTAMP:20240129T144223Z
URL:https://histap.de/events/einfuehrung-in-die-transaktionsanalyse-3/
SUMMARY:Einführung in die Transaktionsanalyse
DESCRIPTION:Bist du an Psychologie und persönlicher Entwicklung interessie
 rt? Dann ist unser Online-Weiterbildungskurs an drei Abenden genau das Ric
 htige für dich. In unserem Kurs lernst du nützliche und praktische Konze
 pte\, Theorien\, Ideen und Werkzeuge kennen. Sie helfen dir dich selbst un
 d andere sowie Kommunikation und Beziehung mehr zu verstehen.\nDie Transak
 tionsanalyse (TA) zielt darauf ab\, Menschen in Veränderungsprozessen und
  in der Weiterentwicklung ihrer Persönlichkeit zu unterstützen. Dazu bie
 tet sie eine Theorie der menschlichen Persönlichkeit und Kommunikation. D
 ie TA wird in vielen Ländern in Organisationsentwicklung\, Beratung\, Coa
 ching\, im Schul- und Bildungswesen angewendet. Darüber hinaus unterstüt
 zt sie Unternehmen\, Institutionen\, Führungskräfte und Mitarbeitende im
  Miteinander und bei der Gestaltung der täglichen Arbeitsabläufe. Ebenso
  fördert die TA die Beziehung- und Kommunikationskompetenz.\nDie klar und
  verständlich gehaltenen Grundkonzepte der TA werden in unserem Seminar a
 uf anschauliche Weise vermittelt. Begleitet wird die Theorie durch praktis
 che Beispiele und Übungen. Vorkenntnisse sind nicht erforderlich! Das Mod
 ul schließt mit einem offiziellen Zertifikat der Deutschen Gesellschaft f
 ür Transaktionsanalyse (DGTA) ab.\n\n\n\nZIELGRUPPE\n\n 	Für Fach- und F
 ührungskräfte\, die an einer beruflichen Professionalisierung und persö
 nlicher Weiterentwicklung interessiert sind\n 	Menschen\, die die Transakt
 ionsanalyse kennenlernen möchten oder eine Aus- und Weiterbildung zum Coa
 ch\, Berater oder Transaktionsanalytiker anstreben\n 	Menschen\, die aus p
 ädagogischen\, seelsorgerischen\, psychosozialen und anderen Berufen komm
 en\n 	Alle\, die sich für psychologische Grundlagen interessieren und Zus
 ammenhänge in zwischenmenschlichen Beziehungen verstehen und nachvollzieh
 en wollen\n\n\nTERMIN\n07. + 14. + 21. März 2024 jeweils von 18-21h\n\n\n
 \nORT\nOnline - per Zoom\n\n\n\nKosten\n295\,- € (inklusive der Gebühr 
 für das Zertifikat der DGTA)\n\nDOZENT\nPeter Bremicker\, Leiter HISTAP\,
  Traumapädagoge und Traumafachberater\, Theologe und Autor\, Lehrtrainer 
 und Lehrsupervisor für Transaktionsanalyse\n\n\n\n
ATTACH;FMTTYPE=image/jpeg:https://histap.de/wp-content/uploads/2023/06/Ins
 ta-Visuals1.png
LOCATION:#
END:VEVENT
BEGIN:VTIMEZONE
TZID:Europe/Berlin
X-LIC-LOCATION:Europe/Berlin
BEGIN:STANDARD
DTSTART:20231029T020000
TZOFFSETFROM:+0200
TZOFFSETTO:+0100
TZNAME:CET
END:STANDARD
END:VTIMEZONE
END:VCALENDAR