BEGIN:VCALENDAR
VERSION:2.0
PRODID:-//wp-events-plugin.com//7.2.3.1//EN
TZID:Europe/Berlin
X-WR-TIMEZONE:Europe/Berlin
BEGIN:VEVENT
UID:74@histap.de
DTSTART;TZID=Europe/Berlin:20260226T100000
DTEND;TZID=Europe/Berlin:20261120T160000
DTSTAMP:20260226T072559Z
URL:https://histap.de/events/masterclass-transaktionsanalytikerin-2/
SUMMARY:Masterclass TransaktionsanalytikerIn
DESCRIPTION:Ausbildung Transaktionsanalytiker*in Masterclass 2026\nTransakt
 ionsanalytiker*in\n\nDie Masterclass oder fortgeschrittene Ausbildungsgrup
 pe befindet sich auf dem Weg zur/zum Transaktionsanalytiker*in und bereite
 t sich auf das Examen zum Certified Transactional Analysist (CTA) vor.\n\n
 Identitätsentwicklung\n\nIn den Ausbildungsmodulen entwickeln die zukünf
 tigen Transaktionsanalytiker*innen eine Identität als Transaktionsanalyti
 ker*in mit dem Schwerpunkt Beratung.\n\nProfessionalisierung\n\nIn einer p
 ersönlichen Auseinandersetzung mit der eigenen Identität\, verbunden mit
  einer Professionalisierung im Fachbereich Beratung\, finden die Ausbildun
 gskandidaten zu einem eigenen Stil und einem eigenen Beratungsverständnis
 . Bandsupervisionen und Theorievertiefungen\, begleitet von wiederkehrende
 m Trainieren von Beratungssequenzen. Es geht Dir darum\, die Theorie in De
 inen professionellen Beratungskontext zu integrieren\, Freude am eigenen W
 achstum mit TA zu erfahren?  Du willst\, wie selbstverständlich die vers
 chiedenen Konzepte abrufen und diskutieren? Dann melde Dich zur Masterclas
 s in an.\n\nKompetenzzuwachs durch Prozessreflexion\n\nGefördert werden d
 ie Wahrnehmungs- und Reflexionsfähigkeit\, Methoden und Techniken zur Kom
 munikation und Intervention\, Praxiserfahrung und Übung\, sowie vertiefte
 s psychologisches Grundwissen. Um diese Kompetenzen zu erlernen\, ist es n
 ötig\, die Vermittlung von Wissen mit Praxiserfahrung\, Übung\, sowie ei
 ner anschließenden Prozessreflexion der Erfahrungen zu verknüpfen.\n\nBe
 rufsbegleitend\n\nDie Ausbildung zur/zum Transaktionsanalytiker*in steht a
 ls berufsbegleitende\, praxisorientierte Weiterbildung genau für diese Ve
 rknüpfung. Der Praxisbezug ist für uns wesentlich. Ziel ist es\, die per
 sönlichen und professionellen Kompetenzen der Teilnehmenden zu entwickeln
  – und zwar anhand der Praxiserfahrungen in ihren eigenen (beruflichen) 
 Umfeldern.\n\nWarum Systemische Transaktionsanalyse?\n\nDie Transaktionsan
 alyse bietet Modelle („Landkarten“)\, mit denen man Prozesse in Organi
 sationen und soziale Beziehungen zwischen Individuen und sozialen Systemen
  erkennen\, beschreiben und steuern kann. Die Konzepte bestechen durch Pra
 xisnähe\, Präzision und Effizienz. Auf dieser Basis können andere Berat
 ungs- und Coachingansätze sinnvoll integriert werden. Der integrative Ans
 atz auf Basis der Transaktionsanalyse ist deshalb besonders geeignet\, um 
 Veränderungsprozesse zu entwickeln und umzusetzen. Ein wirksames Instrume
 nt\, um Change-Prozesse zu unterstützen und professionelle und persönlic
 he Entwicklung voranzubringen. Die Weiterbildung sieht eine enge Verzahnun
 g von Theorie und Praxis vor. Neben der Vermittlung von Wissen und Methode
 n wird die Beratungs- und Coachingpraxis intensiv geübt und Fallbeispiele
  immer wieder unter diesem Aspekt reflektiert. Der Wechsel von Wissenserwe
 rb\, Praxiserfahrung und Prozess- und Eigenreflexion ermöglicht den Teiln
 ehmern\, ihre individuelle Professionalität sowie die Persönlichkeit zu 
 entwickeln.\nAbschluss/Zertifizierung\nZertifikat: Certified Transactional
  Analysist (CTA)\n\nDer Abschluss wird nach den Richtlinien der Deutschen 
 Gesellschaft für Transaktionsanalyse (DGTA)\, der Deutsch Schweizer Gesel
 lschaft für Transaktionsanalyse (DSGTA) und der Europäischen Gesellschaf
 t für Transaktionsanalyse (EATA)durchgeführt. Voraussetzung ist ein Ein
 führungskurs in die Transaktionsanalyse und eine dreijährige Basisausbil
 dung.\nZielgruppe\nAlle\, die die Theorie in ihrem professionellen Beratun
 gskontext integrieren und Freude am eigenen Wachstum mit der systhemischen
  Transaktionsanalyse erleben möchten. Alle\, die wie selbstverständlich 
 die verschiedenen Konzepte abrufen und diskutieren möchten.\n\nFortbildun
 gsdauer\ninsgesamt 2-3 Jahre\, 8 Theorie- und Praxistage: 6 in der Masterc
 lass\, 2 in der Basisausbildung pro Jahr\, zzgl. 4 x 2\,5 Stunden digitale
  Supervision\n\nTermine\n26. + 27. Februar 2026\n11. + 12. Juni 2026\n24. 
 + 25. September 2026\n19. + 20. November 2026\n\nDonnerstag Start um 10 Uh
 r - Freitag Ende um 16 Uhr\nKosten\nPrivatzahler: 1.990\,- € pro Jahr\, 
 zzgl. Supervision 80\,- € pro Gruppensitzung\nBusinesskunden: 3.900\,- 
 € zzgl. MwSt. pro Jahr\n\nDozent\nPeter Bremicker\, Leiter HISTAP\, Trau
 mapädagoge und Traumafachberater\, Lehrtrainer und Lehrsupervisor für Tr
 ansaktionsanalyse\, Theologe und Autor
ATTACH;FMTTYPE=image/jpeg:https://histap.de/wp-content/uploads/2024/10/Neu
 e-Visuals25.png
CATEGORIES:Schwerpunkt Transaktionsanalyse
LOCATION:HISTAP\, Elbstr. 18\, Wedel\, 22880\, Deutschland
GEO:53.545016;9.95019
X-APPLE-STRUCTURED-LOCATION;VALUE=URI;X-ADDRESS=Elbstr. 18\, Wedel\, 22880\
 , Deutschland;X-APPLE-RADIUS=100;X-TITLE=HISTAP:geo:53.545016,9.95019
END:VEVENT
BEGIN:VTIMEZONE
TZID:Europe/Berlin
X-LIC-LOCATION:Europe/Berlin
BEGIN:STANDARD
DTSTART:20251026T020000
TZOFFSETFROM:+0200
TZOFFSETTO:+0100
TZNAME:CET
END:STANDARD
BEGIN:DAYLIGHT
DTSTART:20260329T030000
TZOFFSETFROM:+0100
TZOFFSETTO:+0200
TZNAME:CEST
END:DAYLIGHT
BEGIN:STANDARD
DTSTART:20261025T020000
TZOFFSETFROM:+0200
TZOFFSETTO:+0100
TZNAME:CET
END:STANDARD
END:VTIMEZONE
END:VCALENDAR