BEGIN:VCALENDAR
VERSION:2.0
PRODID:-//wp-events-plugin.com//7.2.3.1//EN
TZID:Europe/Berlin
X-WR-TIMEZONE:Europe/Berlin
BEGIN:VEVENT
UID:84@histap.de
DTSTART;TZID=Europe/Berlin;VALUE=DATE:20260130
DTEND;TZID=Europe/Berlin;VALUE=DATE:20260201
DTSTAMP:20251127T101850Z
URL:https://histap.de/events/persoenlichkeit-und-kommunikation-entwickeln-
 einfuehrung-in-die-transaktionsanalyse-2/
SUMMARY:Persönlichkeit und Kommunikation entwickeln – Einführung in die
  Transaktionsanalyse
DESCRIPTION:Bist du an Psychologie und persönlicher Entwicklung interessie
 rt? Dann ist unser Online-Weiterbildungskurs an drei Abenden genau das Ric
 htige für dich. In unserem Kurs lernst du nützliche und praktische Konze
 pte\, Theorien\, Ideen und Werkzeuge kennen. Sie helfen dir dich selbst un
 d andere sowie Kommunikation und Beziehung mehr zu verstehen.\nDie Transak
 tionsanalyse (TA) zielt darauf ab\, Menschen in Veränderungsprozessen und
  in der Weiterentwicklung ihrer Persönlichkeit zu unterstützen. Dazu bie
 tet sie eine Theorie der menschlichen Persönlichkeit und Kommunikation. D
 ie TA wird in vielen Ländern in Organisationsentwicklung\, Beratung\, Coa
 ching\, im Schul- und Bildungswesen angewendet. Darüber hinaus unterstüt
 zt sie Unternehmen\, Institutionen\, Führungskräfte und Mitarbeitende im
  Miteinander und bei der Gestaltung der täglichen Arbeitsabläufe. Ebenso
  fördert die TA die Beziehung- und Kommunikationskompetenz.\nDie klar und
  verständlich gehaltenen Grundkonzepte der TA werden in unserem Seminar a
 uf anschauliche Weise vermittelt. Begleitet wird die Theorie durch praktis
 che Beispiele und Übungen. Vorkenntnisse sind nicht erforderlich! Das Mod
 ul schließt mit einem offiziellen Zertifikat der Deutschen Gesellschaft f
 ür Transaktionsanalyse (DGTA) ab.\nZIELGRUPPE\n\n\n 	Für Fach- und Führ
 ungskräfte\, die an einer beruflichen Professionalisierung und persönlic
 her Weiterentwicklung interessiert sind\n 	Menschen\, die die Transaktions
 analyse kennenlernen möchten oder eine Aus- und Weiterbildung zum Coach\,
  Berater oder Transaktionsanalytiker anstreben\n 	Menschen\, die aus päda
 gogischen\, seelsorgerischen\, psychosozialen und anderen Berufen kommen\n
  	Alle\, die sich für psychologische Grundlagen interessieren und Zusamme
 nhänge in zwischenmenschlichen Beziehungen verstehen und nachvollziehen w
 ollen\n\nORT\n\nPraxis für Beratung und Psychotherapie\, Grünsinkerstra
 ße 1c in 82234 Weßling\nTERMIN\n30. Januar 2026 von 16 - 20 Uhr\n31. Jan
 uar 2026 von 9 - 17 Uhr\n\n\n\n\nKOSTEN\n\n295\,- € (inklusive der Gebü
 hr für das Zertifikat der DGTA)\n\n\n\n\nKOORDINATORIN\n\n\n\n\n 	Angelik
 a von Esebeck\, Inhaberin Praxis für Beratung und Psychotherapie\, transa
 ktionsanalytische Beratin (DGTA)\n\nFORTBILDUNGSLEITUNG\n\n\n\n\n\n 	Peter
  Bremicker\, Leiter HISTAP\, Lehrtrainer und Lehrsupervisor für Transakti
 onsanalyse\, Traumapädagoge und -fachberater\, Theologe und Autor\, Mitar
 beiter in der Trennungs- und Scheidungsberatung\n\n&nbsp\;\n\n&nbsp\;\n\n
ATTACH;FMTTYPE=image/jpeg:https://histap.de/wp-content/uploads/2024/05/Neu
 e-Visuals8.png
CATEGORIES:Management-Seminare &amp; Angebote für Organisationen,Offene
 Workshops: Social Skills &amp;
 Persönlichkeits-entwicklung,Prävention,Schwerpunkt Transaktionsanalyse
LOCATION:Praxis für Beratung und Psychotherapie\, Grünsinkerstraße 1c \,
   Weßling\, Bayern\, 82234\, Deutschland
X-APPLE-STRUCTURED-LOCATION;VALUE=URI;X-ADDRESS=Grünsinkerstraße 1c \,  W
 eßling\, Bayern\, 82234\, Deutschland;X-APPLE-RADIUS=100;X-TITLE=Praxis f
 ür Beratung und Psychotherapie:geo:0,0
END:VEVENT
BEGIN:VTIMEZONE
TZID:Europe/Berlin
X-LIC-LOCATION:Europe/Berlin
BEGIN:STANDARD
DTSTART:20251026T020000
TZOFFSETFROM:+0200
TZOFFSETTO:+0100
TZNAME:CET
END:STANDARD
END:VTIMEZONE
END:VCALENDAR