BEGIN:VCALENDAR
VERSION:2.0
PRODID:-//wp-events-plugin.com//7.2.3.1//EN
TZID:Europe/Berlin
X-WR-TIMEZONE:Europe/Berlin
BEGIN:VEVENT
UID:89@histap.de
DTSTART;TZID=Europe/Berlin:20260625T160000
DTEND;TZID=Europe/Berlin:20260625T190000
DTSTAMP:20260226T072454Z
URL:https://histap.de/events/schutz-vor-sekundaerer-traumatisierung-in-der
 -sozialen-arbeit-strategien-fuer-sozialpaedagoginnen-und-paedagogen-2/
SUMMARY:Schutz vor sekundärer Traumatisierung in der Sozialen Arbeit – S
 trategien für Sozialpädagoginnen und -pädagogen
DESCRIPTION:Fachkräfte in der Sozialen Arbeit begleiten tagtäglich Mensch
 en\, die Gewalt\, Verlust\, Vernachlässigung oder andere traumatische Erf
 ahrungen gemacht haben. Dabei kann es passieren\, dass die emotionale Last
  der Klient:innen unbewusst auf die Fachkraft übergeht. Eine Belastung\, 
 die als sekundäre Traumatisierung bezeichnet wird.\nSekundäre Traumatisi
 erung zeigt sich oft schleichend: körperliche Symptome wie Schlafstörung
 en oder Anspannung\, emotionale Reaktionen wie Traurigkeit oder Reizbarkei
 t\, kognitive Belastungen wie Konzentrationsprobleme oder Grübeln und soz
 iale Auswirkungen wie Rückzug oder Zynismus. Wer diese Warnsignale frühz
 eitig erkennt\, kann wirksame Strategien entwickeln\, um die eigene psychi
 sche und körperliche Gesundheit zu schützen.\nIn dieser praxisnahen Onli
 ne-Fortbildung zeigen wir\, wie sich Fachkräfte schützen können\, ohne 
 ihre eigene Empathie zu verlieren. Gemeinsam reflektieren wir belastende S
 ituationen aus dem beruflichen Alltag\, erproben Methoden zur Selbstfürso
 rge und entwickeln persönliche Notfallstrategien\, die sofort im Alltag a
 nwendbar sind.\nTHEMEN\n\n 	Unterscheidung von sekundärer Traumatisierung
  zu Burnout oder Mitgefühlserschöpfung\n 	Eigene Warnsignale erkennen un
 d ernst nehmen\n 	Praktische Strategien für den Arbeitsalltag\, die Schut
 z und Distanz ermöglichen\n 	Körperbasierte Übungen und kurze Entspannu
 ngstechniken\, die sofort im Alltag einsetzbar sind\n 	Einen persönlichen
  „Notfallkoffer“ für besonders belastende Situationen erstellen\n\nZI
 ELGRUPPE\n\n\n 	Berufseinsteiger:innen in der Sozialen Arbeit\, die noch n
 icht viel Erfahrung mit (hoch-)belasteten Klient:innen haben\n 	Erfahrene 
 Fachkräfte\, die ihre Selbstfürsorge reflektieren und vertiefen wollen\n
 \nORT\n\n\nOnline - per Zoom\n\nTERMIN\n25. Juni 2026 von 16.00 - 19.00 Uh
 r\n\n\n\n\nKOSTEN\n\n89\,- € (inklusive Zertifikat und Seminarunterlagen
 )\n\n\n\n\nFORTBILDUNGSLEITUNG\n\n 	Peter Bremicker\, Leiter HISTAP\, Lehr
 trainer und Lehrsupervisor für Transaktionsanalyse\, Traumapädagoge und 
 -fachberater\, Theologe und Autor\, Mitarbeiter in der Trennungs- und Sche
 idungsberatung\n\n&nbsp\;\n\n
ATTACH;FMTTYPE=image/jpeg:https://histap.de/wp-content/uploads/2025/09/Neu
 e-Visuals-5.png
CATEGORIES:Fortbildung,Prävention,Psychotraumatologie
LOCATION:#
END:VEVENT
BEGIN:VTIMEZONE
TZID:Europe/Berlin
X-LIC-LOCATION:Europe/Berlin
BEGIN:DAYLIGHT
DTSTART:20260329T030000
TZOFFSETFROM:+0100
TZOFFSETTO:+0200
TZNAME:CEST
END:DAYLIGHT
END:VTIMEZONE
END:VCALENDAR