BEGIN:VCALENDAR
VERSION:2.0
PRODID:-//wp-events-plugin.com//7.2.3.1//EN
TZID:Europe/Berlin
X-WR-TIMEZONE:Europe/Berlin
BEGIN:VEVENT
UID:40@histap.de
DTSTART;TZID=Europe/Berlin:20250208T090000
DTEND;TZID=Europe/Berlin:20250208T180000
DTSTAMP:20250930T073909Z
URL:https://histap.de/events/systemisch-transaktionsanalytische-basisausbi
 ldung-gruppe-1-2/
SUMMARY:Systemisch transaktionsanalytische Basisausbildung 2025
DESCRIPTION:Basisausbildung zum/r TA-Berater*in/Coach\nDer Fokus der Basisa
 usbildung liegt auf deiner persönlichen und beruflich-professionellen Ent
 wicklung. Grundlage der Ausbildung sind viele nützliche und praktische Ko
 nzepte\, Theorien\, Ideen und Werkzeuge der Transaktionsanalyse\, um sich 
 selbst und andere\, Kommunikation und Beziehung mehr zu verstehen. Die sys
 temische Transaktionsanalyse bietet Modelle an\, mit denen Prozesse in Org
 anisationen und soziale Beziehungen zwischen Individuen und sozialen Syste
 men zu erkennen\, zu beschreiben und zu steuern sind. Die Konzepte bestech
 en durch Praxisnähe\, Präzision und Effizienz. Sie sind wirksame Instrum
 ente\, um professionelle und persönliche Entwicklung voranzubringen und d
 ie Selbststeuerung zu erhöhen.\nUnsere Basisausbildung sieht eine enge Ve
 rzahnung von Theorie und Praxis vor. Neben der Vermittlung von Wissen und 
 Methoden wird die Beratungs- und Coachingpraxis intensiv geübt und Fallbe
 ispiele immer wieder reflektiert. Der Wechsel von Wissenserwerb\, Praxiser
 fahrung und Prozess- und Eigenreflexion ermöglicht dir\, deine individuel
 le Professionalität sowie die Persönlichkeit weiterzuentwickeln. Regelm
 äßige Standortgespräche und Reflexion des Lernprozesses und führen zu 
 einer vertieften Selbststeuerung. Dabei richten wir den Blick gleichermaß
 en auf Akteure\, Mitspieler und das Gesamtsystem. Du erweiterst und vertie
 fst deine Handlungskompetenz.\nZIELGRUPPE\n\n\n 	Für Fach- und Führungsk
 räfte\, die an einer beruflichen Professionalisierung und persönlicher W
 eiterentwicklung interessiert sind\; \n 	Menschen\, die aus pädagogischen
 \, seelsorgerischen\, psychosozialen und anderen Berufen kommen\; \n 	alle
 \, die sich für psychologische Grundlagen interessieren und Zusammenhäng
 e in zwischenmenschlichen Beziehungen verstehen und nachvollziehen wollen\
 n\n&nbsp\;\nFORTBILDUNGSDAUER\ninsgesamt 3 Jahre (der Fortbildungsvertrag 
 wird Jahresweise geschlossen\, es findet eine jährliche Standortbestimmun
 g statt)\nPro Jahr 6 x 2 Tage\nTERMINE 2025\n\n08. + 09. Februar 2025: Sa.
  9.30 - 18 Uhr - So. 9 - 18 Uhr\n01. + 02. März 2025: Sa. 9.30 - 18 Uhr -
  So. 9 - 18 Uhr\n29. + 30. März 2025: Sa. 9.30 - 18 Uhr - So. 9 - 18 Uhr\
 n05. + 06. Juli 2025: Sa. 9.30 - 18 Uhr - So. 9 - 18 Uhr\n11. + 12. Oktobe
 r 2025: Sa. 9.30 - 18 Uhr - So. 9 - 18 Uhr\n06. + 07. Dezember 2025: Sa. 9
 .30 - 18 Uhr - So. 9 - 18 Uhr\n&nbsp\;\n\nKOSTEN\n\n 	Privatzahler: 2.390\
 ,- € pro Ausbildungsjahr\n 	Businesskunden: 3.900\,- € zzgl. MwSt. pro
  Ausbildungsjahr\n
ATTACH;FMTTYPE=image/jpeg:https://histap.de/wp-content/uploads/2023/10/Neu
 e-Visuals14.png
CATEGORIES:Fortbildung,Schwerpunkt Transaktionsanalyse
LOCATION:HISTAP\, Elbstr. 18\, Wedel\, 22880\, Deutschland
GEO:53.545016;9.95019
X-APPLE-STRUCTURED-LOCATION;VALUE=URI;X-ADDRESS=Elbstr. 18\, Wedel\, 22880\
 , Deutschland;X-APPLE-RADIUS=100;X-TITLE=HISTAP:geo:53.545016,9.95019
END:VEVENT
BEGIN:VTIMEZONE
TZID:Europe/Berlin
X-LIC-LOCATION:Europe/Berlin
BEGIN:STANDARD
DTSTART:20241027T020000
TZOFFSETFROM:+0200
TZOFFSETTO:+0100
TZNAME:CET
END:STANDARD
END:VTIMEZONE
END:VCALENDAR