BEGIN:VCALENDAR
VERSION:2.0
PRODID:-//wp-events-plugin.com//7.2.3.1//EN
TZID:Europe/Berlin
X-WR-TIMEZONE:Europe/Berlin
BEGIN:VEVENT
UID:85@histap.de
DTSTART;TZID=Europe/Berlin:20261205T100000
DTEND;TZID=Europe/Berlin:20261206T150000
DTSTAMP:20251124T100659Z
URL:https://histap.de/events/traumasensible-gespraechsfuehrung-gespraechst
 echniken-fuer-sicherheit-und-stabilitaet-2/
SUMMARY:Traumasensible Gesprächsführung – Gesprächstechniken für Sich
 erheit und Stabilität
DESCRIPTION:Traumatische Erfahrungen hinterlassen tiefe Spuren in der Psych
 e von Menschen und beeinflussen neben ihrem Verhalten auch die Art und Wei
 se\, wie sie kommunizieren und Beziehungen gestalten. Für Fachkräfte\, d
 ie in ihrem Alltag mit betroffenen Personen arbeiten – ob im sozialen Be
 reich\, in der Beratung oder in anderen unterstützenden Rollen – ist es
  grundlegend\, diese Dynamiken zu verstehen und darauf sensibel zu reagier
 en. Die traumasensible Gesprächsführung ist ein Ansatz\, mit dem betroff
 ene Menschen in ihrer Verletzlichkeit wahr genommen werden können und ver
 mittelt Sicherheit und Stabilität. Die traumasensible Gesprächsführung 
 schafft einen Raum\, in dem Vertrauen wachsen kann. Gerade in herausforder
 nden Gesprächssituationen\, in denen Themen wie Trigger\, Flashbacks oder
  starke emotionale Reaktionen auftauchen\, ist es wichtig\, deeskalierend 
 und unterstützend handeln zu können. Dieses Seminar vermittelt die Werkz
 euge\, um solchen Momenten mit Kompetenz und Einfühlungsvermögen zu bege
 gnen. Gleichzeitig legt es einen Fokus auf die Grenzen dessen\, was im Ges
 präch möglich ist\, und zeigt auf\, wie eine gesunde Abgrenzung zwischen
  Gesprächsführung und Therapie gelingen kann. Gemeinsam werden wir neben
  dem Wissen aus der Psychotraumatologie viele praktische Techniken einübe
 n und die eigene Rolle im Umgang mit traumatisierten Personen reflektieren
 .\nZIELGRUPPE\nBeraterInnen\, PsychologenInnen und TherapeutenInnen\, Sozi
 alarbeiterInnen\, ErzieherInnen\, und weitere Berufsgruppen\, die mit\ntra
 umatisierten Menschen arbeiten.\n\nTHEMEN\n- Einführung in die traumasens
 ible Gesprächsführung\n- Grundlagen der Psychotraumatologie\n- Sicherhei
 t und Stabilität im Gespräch\n- Trigger und Flashbacks verstehen\n- Dees
 kalation und Gesprächstechniken\n- Grenzen und Möglichkeiten traumasensi
 blen Gesprächsführung\n- Selbstfürsorge und Resilienzförderung\n\nTERM
 IN\n05. + 06. Dezember 2026\nSamstag von 10 bis 18h und Sonntag von 9 bis 
 15h\n\nLEITUNG\nPeter Bremicker\, Leiter HISTAP\, Lehrtrainer und Lehrsupe
 rvisor für Transaktionsanalyse\, Traumapädagoge und Traumafachberater\,\
 nTheologe und Autor\, Mitarbeiter in der Trennungs- und Scheidungsberatung
 \n\nORT\nElbstr. 18\, 22880 Wedel\n\nKOSTEN\n410\,- € (inkl. HISTAP-Zert
 ifikat und Seminarunterlagen)\n\n&nbsp\;
ATTACH;FMTTYPE=image/jpeg:https://histap.de/wp-content/uploads/2025/01/Pos
 ts-Insta50.png
CATEGORIES:Psychotraumatologie,Trauma-Kompetenz
LOCATION:HISTAP\, Elbstr. 18\, Wedel\, 22880\, Deutschland
GEO:53.545016;9.95019
X-APPLE-STRUCTURED-LOCATION;VALUE=URI;X-ADDRESS=Elbstr. 18\, Wedel\, 22880\
 , Deutschland;X-APPLE-RADIUS=100;X-TITLE=HISTAP:geo:53.545016,9.95019
END:VEVENT
BEGIN:VTIMEZONE
TZID:Europe/Berlin
X-LIC-LOCATION:Europe/Berlin
BEGIN:STANDARD
DTSTART:20261025T020000
TZOFFSETFROM:+0200
TZOFFSETTO:+0100
TZNAME:CET
END:STANDARD
END:VTIMEZONE
END:VCALENDAR